BEGIN:VCALENDAR
VERSION:2.0
PRODID:-//City of Maple Heights - ECPv6.15.20//NONSGML v1.0//EN
CALSCALE:GREGORIAN
METHOD:PUBLISH
X-WR-CALNAME:City of Maple Heights
X-ORIGINAL-URL:https://mapleheightsohio.gov
X-WR-CALDESC:Events for City of Maple Heights
REFRESH-INTERVAL;VALUE=DURATION:PT1H
X-Robots-Tag:noindex
X-PUBLISHED-TTL:PT1H
BEGIN:VTIMEZONE
TZID:UTC
BEGIN:STANDARD
TZOFFSETFROM:+0000
TZOFFSETTO:+0000
TZNAME:UTC
DTSTART:20250101T000000
END:STANDARD
END:VTIMEZONE
BEGIN:VEVENT
DTSTART;TZID=UTC:20260420T180000
DTEND;TZID=UTC:20260420T190000
DTSTAMP:20260423T100839
CREATED:20260414T213408Z
LAST-MODIFIED:20260414T213408Z
UID:10001123-1776708000-1776711600@mapleheightsohio.gov
SUMMARY:Government Affairs Committee Meeting
DESCRIPTION:042026 GAC Notice
URL:https://mapleheightsohio.gov/event/government-affairs-committee-meeting-5/
LOCATION:Maple Heights City Hall\, 5353 Lee Road\, Maple Heights\, OH\, 44137
END:VEVENT
END:VCALENDAR