BEGIN:VCALENDAR
VERSION:2.0
PRODID:-//City of Maple Heights - ECPv6.15.20//NONSGML v1.0//EN
CALSCALE:GREGORIAN
METHOD:PUBLISH
X-ORIGINAL-URL:https://mapleheightsohio.gov
X-WR-CALDESC:Events for City of Maple Heights
REFRESH-INTERVAL;VALUE=DURATION:PT1H
X-Robots-Tag:noindex
X-PUBLISHED-TTL:PT1H
BEGIN:VTIMEZONE
TZID:UTC
BEGIN:STANDARD
TZOFFSETFROM:+0000
TZOFFSETTO:+0000
TZNAME:UTC
DTSTART:20250101T000000
END:STANDARD
END:VTIMEZONE
BEGIN:VEVENT
DTSTART;TZID=UTC:20260303T160000
DTEND;TZID=UTC:20260303T160000
DTSTAMP:20260420T135820
CREATED:20260109T205755Z
LAST-MODIFIED:20260109T210314Z
UID:10000794-1772553600-1772553600@mapleheightsohio.gov
SUMMARY:Food Pantry
DESCRIPTION:Please check the updated shopping hours for residents\, seniors\, and non-residents.  Please bring your photo ID and proof of residency. Shoppers are able to come to the Food Pantry every 30 days. Six days worth of food will be provided for each family member at each visit.  Thank you! \n  \nMaple Heights Food Pantry Hours \nTuesdays: Maple Heights Residents ONLY ︳Noon – 3 PM \nWednesdays: Maple Heights Seniors ONLY ︳9 – 10 AM ︳Non-Residents 10 AM – Noon \nThursdays: Maple Heights Residents ONLY ︳ 4:30 – 7:30 PM \n  \nJuly is reverification month for eligibility. We are a choice food pantry. Come shop for your favorite nutritious foods. \nOnce a month or every 30 days.  \nSix (6) days worth of food will be provided for each family member at each monthly visit.
URL:https://mapleheightsohio.gov/event/food-pantry/2026-03-03/
LOCATION:Maple Heights Food Pantry\, 17100 Broadway Ave\, Maple Heights\, OH\, 44137\, United States
END:VEVENT
BEGIN:VEVENT
DTSTART;TZID=UTC:20260304T090000
DTEND;TZID=UTC:20260304T120000
DTSTAMP:20260420T135820
CREATED:20260109T210004Z
LAST-MODIFIED:20260109T210246Z
UID:10000272-1772614800-1772625600@mapleheightsohio.gov
SUMMARY:Food Pantry
DESCRIPTION:Please check the updated shopping hours for residents\, seniors\, and non-residents.  Please bring your photo ID and proof of residency. Shoppers are able to come to the Food Pantry every 30 days. Six days worth of food will be provided for each family member at each visit.  Thank you! \n  \nMaple Heights Food Pantry Hours \nTuesdays: Maple Heights Residents ONLY ︳Noon – 3 PM \nWednesdays: Maple Heights Seniors ONLY ︳9 – 10 AM ︳Non-Residents 10 AM – Noon \nThursdays: Maple Heights Residents ONLY ︳ 4:30 – 7:30 PM \n  \nJuly is reverification month for eligibility. We are a choice food pantry. Come shop for your favorite nutritious foods. \nOnce a month or every 30 days.  \nSix (6) days worth of food will be provided for each family member at each monthly visit.
URL:https://mapleheightsohio.gov/event/food-pantry-2/2026-03-04/
LOCATION:Maple Heights Food Pantry\, 17100 Broadway Ave\, Maple Heights\, OH\, 44137\, United States
END:VEVENT
BEGIN:VEVENT
DTSTART;TZID=UTC:20260304T190000
DTEND;TZID=UTC:20260304T203000
DTSTAMP:20260420T135820
CREATED:20260302T160110Z
LAST-MODIFIED:20260302T160110Z
UID:10001069-1772650800-1772656200@mapleheightsohio.gov
SUMMARY:Regular Council Meeting
DESCRIPTION:030426~Council Meeting~Notice \nAgenda~030426
URL:https://mapleheightsohio.gov/event/regular-council-meeting-4/
LOCATION:Maple Heights Senior Center\, 15901 Libby Road\, Maple Heights\, OH\, 44137\, United States
END:VEVENT
BEGIN:VEVENT
DTSTART;TZID=UTC:20260305T163000
DTEND;TZID=UTC:20260305T193000
DTSTAMP:20260420T135820
CREATED:20260109T210114Z
LAST-MODIFIED:20260109T210156Z
UID:10000533-1772728200-1772739000@mapleheightsohio.gov
SUMMARY:Food Pantry
DESCRIPTION:Please check the updated shopping hours for residents\, seniors\, and non-residents.  Please bring your photo ID and proof of residency. Shoppers are able to come to the Food Pantry every 30 days. Six days worth of food will be provided for each family member at each visit.  Thank you! \n  \nMaple Heights Food Pantry Hours \nTuesdays: Maple Heights Residents ONLY ︳Noon – 3 PM \nWednesdays: Maple Heights Seniors ONLY ︳9 – 10 AM ︳Non-Residents 10 AM – Noon \nThursdays: Maple Heights Residents ONLY ︳ 4:30 – 7:30 PM \n  \nJuly is reverification month for eligibility. We are a choice food pantry. Come shop for your favorite nutritious foods. \nOnce a month or every 30 days.  \nSix (6) days worth of food will be provided for each family member at each monthly visit.
URL:https://mapleheightsohio.gov/event/food-pantry-3/2026-03-05/
LOCATION:Maple Heights Food Pantry\, 17100 Broadway Ave\, Maple Heights\, OH\, 44137\, United States
END:VEVENT
BEGIN:VEVENT
DTSTART;TZID=UTC:20260305T180000
DTEND;TZID=UTC:20260305T200000
DTSTAMP:20260420T135820
CREATED:20260223T220731Z
LAST-MODIFIED:20260223T220731Z
UID:10001062-1772733600-1772740800@mapleheightsohio.gov
SUMMARY:Government Affairs Committee Meeting
DESCRIPTION:030526GAC
URL:https://mapleheightsohio.gov/event/government-affairs-committee-meeting/
LOCATION:Maple Heights City Hall\, Second Floor\, 5353 Lee Road\, Maple Heights\, OH\, 44137\, United States
END:VEVENT
BEGIN:VEVENT
DTSTART;TZID=UTC:20260309T183000
DTEND;TZID=UTC:20260309T200000
DTSTAMP:20260420T135820
CREATED:20260223T221745Z
LAST-MODIFIED:20260223T221745Z
UID:10001065-1773081000-1773086400@mapleheightsohio.gov
SUMMARY:Planning & Zoning Commission Public Hearing
DESCRIPTION:030926 PZ NN
URL:https://mapleheightsohio.gov/event/planning-zoning-commission-public-hearing/
LOCATION:Maple Heights City Hall\, Second Floor\, 5353 Lee Road\, Maple Heights\, OH\, 44137\, United States
END:VEVENT
BEGIN:VEVENT
DTSTART;TZID=UTC:20260310T160000
DTEND;TZID=UTC:20260310T160000
DTSTAMP:20260420T135820
CREATED:20260109T205755Z
LAST-MODIFIED:20260109T210314Z
UID:10000795-1773158400-1773158400@mapleheightsohio.gov
SUMMARY:Food Pantry
DESCRIPTION:Please check the updated shopping hours for residents\, seniors\, and non-residents.  Please bring your photo ID and proof of residency. Shoppers are able to come to the Food Pantry every 30 days. Six days worth of food will be provided for each family member at each visit.  Thank you! \n  \nMaple Heights Food Pantry Hours \nTuesdays: Maple Heights Residents ONLY ︳Noon – 3 PM \nWednesdays: Maple Heights Seniors ONLY ︳9 – 10 AM ︳Non-Residents 10 AM – Noon \nThursdays: Maple Heights Residents ONLY ︳ 4:30 – 7:30 PM \n  \nJuly is reverification month for eligibility. We are a choice food pantry. Come shop for your favorite nutritious foods. \nOnce a month or every 30 days.  \nSix (6) days worth of food will be provided for each family member at each monthly visit.
URL:https://mapleheightsohio.gov/event/food-pantry/2026-03-10/
LOCATION:Maple Heights Food Pantry\, 17100 Broadway Ave\, Maple Heights\, OH\, 44137\, United States
END:VEVENT
BEGIN:VEVENT
DTSTART;TZID=UTC:20260311T090000
DTEND;TZID=UTC:20260311T120000
DTSTAMP:20260420T135820
CREATED:20260109T210004Z
LAST-MODIFIED:20260109T210246Z
UID:10000273-1773219600-1773230400@mapleheightsohio.gov
SUMMARY:Food Pantry
DESCRIPTION:Please check the updated shopping hours for residents\, seniors\, and non-residents.  Please bring your photo ID and proof of residency. Shoppers are able to come to the Food Pantry every 30 days. Six days worth of food will be provided for each family member at each visit.  Thank you! \n  \nMaple Heights Food Pantry Hours \nTuesdays: Maple Heights Residents ONLY ︳Noon – 3 PM \nWednesdays: Maple Heights Seniors ONLY ︳9 – 10 AM ︳Non-Residents 10 AM – Noon \nThursdays: Maple Heights Residents ONLY ︳ 4:30 – 7:30 PM \n  \nJuly is reverification month for eligibility. We are a choice food pantry. Come shop for your favorite nutritious foods. \nOnce a month or every 30 days.  \nSix (6) days worth of food will be provided for each family member at each monthly visit.
URL:https://mapleheightsohio.gov/event/food-pantry-2/2026-03-11/
LOCATION:Maple Heights Food Pantry\, 17100 Broadway Ave\, Maple Heights\, OH\, 44137\, United States
END:VEVENT
BEGIN:VEVENT
DTSTART;TZID=UTC:20260312T163000
DTEND;TZID=UTC:20260312T193000
DTSTAMP:20260420T135820
CREATED:20260109T210114Z
LAST-MODIFIED:20260109T210156Z
UID:10000534-1773333000-1773343800@mapleheightsohio.gov
SUMMARY:Food Pantry
DESCRIPTION:Please check the updated shopping hours for residents\, seniors\, and non-residents.  Please bring your photo ID and proof of residency. Shoppers are able to come to the Food Pantry every 30 days. Six days worth of food will be provided for each family member at each visit.  Thank you! \n  \nMaple Heights Food Pantry Hours \nTuesdays: Maple Heights Residents ONLY ︳Noon – 3 PM \nWednesdays: Maple Heights Seniors ONLY ︳9 – 10 AM ︳Non-Residents 10 AM – Noon \nThursdays: Maple Heights Residents ONLY ︳ 4:30 – 7:30 PM \n  \nJuly is reverification month for eligibility. We are a choice food pantry. Come shop for your favorite nutritious foods. \nOnce a month or every 30 days.  \nSix (6) days worth of food will be provided for each family member at each monthly visit.
URL:https://mapleheightsohio.gov/event/food-pantry-3/2026-03-12/
LOCATION:Maple Heights Food Pantry\, 17100 Broadway Ave\, Maple Heights\, OH\, 44137\, United States
END:VEVENT
BEGIN:VEVENT
DTSTART;TZID=UTC:20260312T180000
DTEND;TZID=UTC:20260312T200000
DTSTAMP:20260420T135820
CREATED:20260305T164624Z
LAST-MODIFIED:20260305T164624Z
UID:10001071-1773338400-1773345600@mapleheightsohio.gov
SUMMARY:Finance Committee Meeting
DESCRIPTION:031226 Fin Com Mtg Notice
URL:https://mapleheightsohio.gov/event/finance-committee-meeting/
LOCATION:Maple Heights City Hall\, Second Floor\, 5353 Lee Road\, Maple Heights\, OH\, 44137\, United States
END:VEVENT
BEGIN:VEVENT
DTSTART;TZID=UTC:20260312T181500
DTEND;TZID=UTC:20260312T193000
DTSTAMP:20260420T135820
CREATED:20260312T173447Z
LAST-MODIFIED:20260312T173447Z
UID:10001084-1773339300-1773343800@mapleheightsohio.gov
SUMMARY:Housing Meeting Cancelled
DESCRIPTION:031226HEDC Notice Cancelled
URL:https://mapleheightsohio.gov/event/housing-meeting-cancelled/
LOCATION:OH
END:VEVENT
BEGIN:VEVENT
DTSTART;TZID=UTC:20260316T180000
DTEND;TZID=UTC:20260316T210000
DTSTAMP:20260420T135820
CREATED:20260303T191307Z
LAST-MODIFIED:20260303T191307Z
UID:10001070-1773684000-1773694800@mapleheightsohio.gov
SUMMARY:Government Affairs Committee Meeting
DESCRIPTION:031626GAC Notice
URL:https://mapleheightsohio.gov/event/government-affairs-committee-meeting-2/
LOCATION:Maple Heights City Hall\, Second Floor\, 5353 Lee Road\, Maple Heights\, OH\, 44137\, United States
END:VEVENT
BEGIN:VEVENT
DTSTART;TZID=UTC:20260317T123000
DTEND;TZID=UTC:20260317T133000
DTSTAMP:20260420T135820
CREATED:20260305T164907Z
LAST-MODIFIED:20260305T164907Z
UID:10001072-1773750600-1773754200@mapleheightsohio.gov
SUMMARY:Meeting of the Civil Service Commission
DESCRIPTION:Public Notice CSC 3-17-2026
URL:https://mapleheightsohio.gov/event/meeting-of-the-civil-service-commission-2/
LOCATION:1st floor Conference Room\, located at City Hall\, 5353 Lee Road\, Maple Heights\, OH 44137
END:VEVENT
BEGIN:VEVENT
DTSTART;TZID=UTC:20260317T160000
DTEND;TZID=UTC:20260317T160000
DTSTAMP:20260420T135820
CREATED:20260109T205755Z
LAST-MODIFIED:20260109T210314Z
UID:10000796-1773763200-1773763200@mapleheightsohio.gov
SUMMARY:Food Pantry
DESCRIPTION:Please check the updated shopping hours for residents\, seniors\, and non-residents.  Please bring your photo ID and proof of residency. Shoppers are able to come to the Food Pantry every 30 days. Six days worth of food will be provided for each family member at each visit.  Thank you! \n  \nMaple Heights Food Pantry Hours \nTuesdays: Maple Heights Residents ONLY ︳Noon – 3 PM \nWednesdays: Maple Heights Seniors ONLY ︳9 – 10 AM ︳Non-Residents 10 AM – Noon \nThursdays: Maple Heights Residents ONLY ︳ 4:30 – 7:30 PM \n  \nJuly is reverification month for eligibility. We are a choice food pantry. Come shop for your favorite nutritious foods. \nOnce a month or every 30 days.  \nSix (6) days worth of food will be provided for each family member at each monthly visit.
URL:https://mapleheightsohio.gov/event/food-pantry/2026-03-17/
LOCATION:Maple Heights Food Pantry\, 17100 Broadway Ave\, Maple Heights\, OH\, 44137\, United States
END:VEVENT
BEGIN:VEVENT
DTSTART;TZID=UTC:20260318T090000
DTEND;TZID=UTC:20260318T120000
DTSTAMP:20260420T135820
CREATED:20260109T210004Z
LAST-MODIFIED:20260109T210246Z
UID:10000274-1773824400-1773835200@mapleheightsohio.gov
SUMMARY:Food Pantry
DESCRIPTION:Please check the updated shopping hours for residents\, seniors\, and non-residents.  Please bring your photo ID and proof of residency. Shoppers are able to come to the Food Pantry every 30 days. Six days worth of food will be provided for each family member at each visit.  Thank you! \n  \nMaple Heights Food Pantry Hours \nTuesdays: Maple Heights Residents ONLY ︳Noon – 3 PM \nWednesdays: Maple Heights Seniors ONLY ︳9 – 10 AM ︳Non-Residents 10 AM – Noon \nThursdays: Maple Heights Residents ONLY ︳ 4:30 – 7:30 PM \n  \nJuly is reverification month for eligibility. We are a choice food pantry. Come shop for your favorite nutritious foods. \nOnce a month or every 30 days.  \nSix (6) days worth of food will be provided for each family member at each monthly visit.
URL:https://mapleheightsohio.gov/event/food-pantry-2/2026-03-18/
LOCATION:Maple Heights Food Pantry\, 17100 Broadway Ave\, Maple Heights\, OH\, 44137\, United States
END:VEVENT
BEGIN:VEVENT
DTSTART;TZID=UTC:20260318T190000
DTEND;TZID=UTC:20260318T203000
DTSTAMP:20260420T135820
CREATED:20260313T195614Z
LAST-MODIFIED:20260313T195614Z
UID:10001106-1773860400-1773865800@mapleheightsohio.gov
SUMMARY:Regular Council Meeting
DESCRIPTION:031826~Council Meeting~Notice \nAgenda~031826
URL:https://mapleheightsohio.gov/event/regular-council-meeting-5/
LOCATION:Maple Heights Senior Center\, 15901 Libby Road\, Maple Heights\, OH\, 44137\, United States
END:VEVENT
BEGIN:VEVENT
DTSTART;TZID=UTC:20260319T163000
DTEND;TZID=UTC:20260319T193000
DTSTAMP:20260420T135820
CREATED:20260109T210114Z
LAST-MODIFIED:20260109T210156Z
UID:10000535-1773937800-1773948600@mapleheightsohio.gov
SUMMARY:Food Pantry
DESCRIPTION:Please check the updated shopping hours for residents\, seniors\, and non-residents.  Please bring your photo ID and proof of residency. Shoppers are able to come to the Food Pantry every 30 days. Six days worth of food will be provided for each family member at each visit.  Thank you! \n  \nMaple Heights Food Pantry Hours \nTuesdays: Maple Heights Residents ONLY ︳Noon – 3 PM \nWednesdays: Maple Heights Seniors ONLY ︳9 – 10 AM ︳Non-Residents 10 AM – Noon \nThursdays: Maple Heights Residents ONLY ︳ 4:30 – 7:30 PM \n  \nJuly is reverification month for eligibility. We are a choice food pantry. Come shop for your favorite nutritious foods. \nOnce a month or every 30 days.  \nSix (6) days worth of food will be provided for each family member at each monthly visit.
URL:https://mapleheightsohio.gov/event/food-pantry-3/2026-03-19/
LOCATION:Maple Heights Food Pantry\, 17100 Broadway Ave\, Maple Heights\, OH\, 44137\, United States
END:VEVENT
BEGIN:VEVENT
DTSTART;TZID=UTC:20260319T180000
DTEND;TZID=UTC:20260319T193000
DTSTAMP:20260420T135820
CREATED:20260226T155145Z
LAST-MODIFIED:20260319T195709Z
UID:10001066-1773943200-1773948600@mapleheightsohio.gov
SUMMARY:Rec Committee Meeting
DESCRIPTION:
URL:https://mapleheightsohio.gov/event/rec-committee-meeting/
LOCATION:Maple Heights Senior Center\, 15901 Libby Road\, Maple Heights\, OH\, 44137\, United States
END:VEVENT
BEGIN:VEVENT
DTSTART;TZID=UTC:20260319T180000
DTEND;TZID=UTC:20260319T193000
DTSTAMP:20260420T135820
CREATED:20260319T195637Z
LAST-MODIFIED:20260319T195637Z
UID:10001112-1773943200-1773948600@mapleheightsohio.gov
SUMMARY:Government Affairs Committee Meeting
DESCRIPTION:031926GAC Notice
URL:https://mapleheightsohio.gov/event/government-affairs-committee-meeting-3/
LOCATION:Maple Heights City Hall\, 5353 Lee Road\, Maple Heights\, OH\, 44137
END:VEVENT
BEGIN:VEVENT
DTSTART;TZID=UTC:20260322T000000
DTEND;TZID=UTC:20260404T235900
DTSTAMP:20260420T135820
CREATED:20260323T161215Z
LAST-MODIFIED:20260405T040141Z
UID:10001113-1774137600-1775347140@mapleheightsohio.gov
SUMMARY:2026 Lawn Mower Exchange Drawing Registration
DESCRIPTION:
URL:https://mapleheightsohio.gov/event/2026-lawn-mower-exchange-drawing-registration/
LOCATION:OH
ATTACH;FMTTYPE=image/png:https://mapleheightsohio.gov/wp-content/uploads/2026/03/Registration-for-a-chance-to-win-a-mower-takes-place-March-22nd-April-4th-1-e1774282299909.png
END:VEVENT
BEGIN:VEVENT
DTSTART;TZID=UTC:20260324T093000
DTEND;TZID=UTC:20260324T110000
DTSTAMP:20260420T135820
CREATED:20260226T162417Z
LAST-MODIFIED:20260311T190636Z
UID:10001068-1774344600-1774350000@mapleheightsohio.gov
SUMMARY:Small Business Resource Session
DESCRIPTION:
URL:https://mapleheightsohio.gov/event/small-business-resource-session/
LOCATION:Maple Heights Library\, 5225 Library Lane\, Maple Heights\, OH\, 44137
ATTACH;FMTTYPE=image/png:https://mapleheightsohio.gov/wp-content/uploads/2026/02/Resource-Session-1-e1773061809681.png
END:VEVENT
BEGIN:VEVENT
DTSTART;TZID=UTC:20260324T160000
DTEND;TZID=UTC:20260324T160000
DTSTAMP:20260420T135820
CREATED:20260109T205755Z
LAST-MODIFIED:20260109T210314Z
UID:10000797-1774368000-1774368000@mapleheightsohio.gov
SUMMARY:Food Pantry
DESCRIPTION:Please check the updated shopping hours for residents\, seniors\, and non-residents.  Please bring your photo ID and proof of residency. Shoppers are able to come to the Food Pantry every 30 days. Six days worth of food will be provided for each family member at each visit.  Thank you! \n  \nMaple Heights Food Pantry Hours \nTuesdays: Maple Heights Residents ONLY ︳Noon – 3 PM \nWednesdays: Maple Heights Seniors ONLY ︳9 – 10 AM ︳Non-Residents 10 AM – Noon \nThursdays: Maple Heights Residents ONLY ︳ 4:30 – 7:30 PM \n  \nJuly is reverification month for eligibility. We are a choice food pantry. Come shop for your favorite nutritious foods. \nOnce a month or every 30 days.  \nSix (6) days worth of food will be provided for each family member at each monthly visit.
URL:https://mapleheightsohio.gov/event/food-pantry/2026-03-24/
LOCATION:Maple Heights Food Pantry\, 17100 Broadway Ave\, Maple Heights\, OH\, 44137\, United States
END:VEVENT
BEGIN:VEVENT
DTSTART;TZID=UTC:20260325T090000
DTEND;TZID=UTC:20260325T120000
DTSTAMP:20260420T135820
CREATED:20260109T210004Z
LAST-MODIFIED:20260109T210246Z
UID:10000275-1774429200-1774440000@mapleheightsohio.gov
SUMMARY:Food Pantry
DESCRIPTION:Please check the updated shopping hours for residents\, seniors\, and non-residents.  Please bring your photo ID and proof of residency. Shoppers are able to come to the Food Pantry every 30 days. Six days worth of food will be provided for each family member at each visit.  Thank you! \n  \nMaple Heights Food Pantry Hours \nTuesdays: Maple Heights Residents ONLY ︳Noon – 3 PM \nWednesdays: Maple Heights Seniors ONLY ︳9 – 10 AM ︳Non-Residents 10 AM – Noon \nThursdays: Maple Heights Residents ONLY ︳ 4:30 – 7:30 PM \n  \nJuly is reverification month for eligibility. We are a choice food pantry. Come shop for your favorite nutritious foods. \nOnce a month or every 30 days.  \nSix (6) days worth of food will be provided for each family member at each monthly visit.
URL:https://mapleheightsohio.gov/event/food-pantry-2/2026-03-25/
LOCATION:Maple Heights Food Pantry\, 17100 Broadway Ave\, Maple Heights\, OH\, 44137\, United States
END:VEVENT
BEGIN:VEVENT
DTSTART;TZID=UTC:20260325T180000
DTEND;TZID=UTC:20260325T193000
DTSTAMP:20260420T135820
CREATED:20260313T134459Z
LAST-MODIFIED:20260313T134459Z
UID:10001095-1774461600-1774467000@mapleheightsohio.gov
SUMMARY:Charter Review Commission Meeting
DESCRIPTION:In accordance with Section 121.22 of the Ohio Revised Code\, and Chapter 208 of the Administrative Code of Codified Ordinances of the City of Maple Heights\, notice is hereby given for the 2026 Public Meeting Schedule for the City of Maple Heights\, Ohio. The Charter Review Committee of the City of Maple Heights\, Ohio\, shall meet on the second and fourth Wednesdays of each month\, for no more than six months\, at 6:00 p.m. at the Maple Heights City Hall\, on the second floor\, located at 5353 Lee Road\, Maple Heights\, Ohio. \nThe actual dates for the 2026 are as follow: \n\nFebruary 25th\nMarch 11th & 25th\nApril 8th & 22nd\nMay 13th & 27th\nJune 10th & 24th\nJuly 8th & 22nd\nAugust 12th & 26th
URL:https://mapleheightsohio.gov/event/charter-review-commission-meeting-2/
LOCATION:Maple Heights City Hall\, 5353 Lee Road\, Maple Heights\, OH\, 44137
END:VEVENT
BEGIN:VEVENT
DTSTART;TZID=UTC:20260325T180000
DTEND;TZID=UTC:20260325T193000
DTSTAMP:20260420T135820
CREATED:20260317T190015Z
LAST-MODIFIED:20260317T190015Z
UID:10001110-1774461600-1774467000@mapleheightsohio.gov
SUMMARY:Architectural Review Board Meeting
DESCRIPTION:032526 ARB~Notice
URL:https://mapleheightsohio.gov/event/architectural-review-board-meeting-2/
LOCATION:1st floor Conference Room\, located at City Hall\, 5353 Lee Road\, Maple Heights\, OH 44137
END:VEVENT
BEGIN:VEVENT
DTSTART;TZID=UTC:20260326T163000
DTEND;TZID=UTC:20260326T193000
DTSTAMP:20260420T135820
CREATED:20260109T210114Z
LAST-MODIFIED:20260109T210156Z
UID:10000536-1774542600-1774553400@mapleheightsohio.gov
SUMMARY:Food Pantry
DESCRIPTION:Please check the updated shopping hours for residents\, seniors\, and non-residents.  Please bring your photo ID and proof of residency. Shoppers are able to come to the Food Pantry every 30 days. Six days worth of food will be provided for each family member at each visit.  Thank you! \n  \nMaple Heights Food Pantry Hours \nTuesdays: Maple Heights Residents ONLY ︳Noon – 3 PM \nWednesdays: Maple Heights Seniors ONLY ︳9 – 10 AM ︳Non-Residents 10 AM – Noon \nThursdays: Maple Heights Residents ONLY ︳ 4:30 – 7:30 PM \n  \nJuly is reverification month for eligibility. We are a choice food pantry. Come shop for your favorite nutritious foods. \nOnce a month or every 30 days.  \nSix (6) days worth of food will be provided for each family member at each monthly visit.
URL:https://mapleheightsohio.gov/event/food-pantry-3/2026-03-26/
LOCATION:Maple Heights Food Pantry\, 17100 Broadway Ave\, Maple Heights\, OH\, 44137\, United States
END:VEVENT
BEGIN:VEVENT
DTSTART;TZID=UTC:20260326T180000
DTEND;TZID=UTC:20260326T193000
DTSTAMP:20260420T135820
CREATED:20260226T161228Z
LAST-MODIFIED:20260305T183655Z
UID:10001067-1774548000-1774553400@mapleheightsohio.gov
SUMMARY:Youth Cooking Series
DESCRIPTION:
URL:https://mapleheightsohio.gov/event/youth-cooking-series/
LOCATION:Maple Heights Senior Center\, 15901 Libby Road\, Maple Heights\, OH\, 44137\, United States
ATTACH;FMTTYPE=image/png:https://mapleheightsohio.gov/wp-content/uploads/2026/02/Cooking-Classes-Flyer-e1772735805230.png
END:VEVENT
BEGIN:VEVENT
DTSTART;TZID=UTC:20260330T180000
DTEND;TZID=UTC:20260330T193000
DTSTAMP:20260420T135820
CREATED:20260326T154126Z
LAST-MODIFIED:20260326T154126Z
UID:10001114-1774893600-1774899000@mapleheightsohio.gov
SUMMARY:Government Affairs Committee Meeting
DESCRIPTION:033026 GAC Notice
URL:https://mapleheightsohio.gov/event/government-affairs-committee-meeting-4/
LOCATION:Maple Heights City Hall\, 5353 Lee Road\, Maple Heights\, OH\, 44137
END:VEVENT
BEGIN:VEVENT
DTSTART;TZID=UTC:20260330T180000
DTEND;TZID=UTC:20260330T193000
DTSTAMP:20260420T135820
CREATED:20260326T154211Z
LAST-MODIFIED:20260326T154211Z
UID:10001115-1774893600-1774899000@mapleheightsohio.gov
SUMMARY:Public Works and Safety Committee Meeting
DESCRIPTION:033026PWSC Notice
URL:https://mapleheightsohio.gov/event/public-works-and-safety-committee-meeting/
LOCATION:1st floor Conference Room\, located at City Hall\, 5353 Lee Road\, Maple Heights\, OH 44137
END:VEVENT
BEGIN:VEVENT
DTSTART;TZID=UTC:20260331T160000
DTEND;TZID=UTC:20260331T160000
DTSTAMP:20260420T135820
CREATED:20260109T205755Z
LAST-MODIFIED:20260109T210314Z
UID:10000798-1774972800-1774972800@mapleheightsohio.gov
SUMMARY:Food Pantry
DESCRIPTION:Please check the updated shopping hours for residents\, seniors\, and non-residents.  Please bring your photo ID and proof of residency. Shoppers are able to come to the Food Pantry every 30 days. Six days worth of food will be provided for each family member at each visit.  Thank you! \n  \nMaple Heights Food Pantry Hours \nTuesdays: Maple Heights Residents ONLY ︳Noon – 3 PM \nWednesdays: Maple Heights Seniors ONLY ︳9 – 10 AM ︳Non-Residents 10 AM – Noon \nThursdays: Maple Heights Residents ONLY ︳ 4:30 – 7:30 PM \n  \nJuly is reverification month for eligibility. We are a choice food pantry. Come shop for your favorite nutritious foods. \nOnce a month or every 30 days.  \nSix (6) days worth of food will be provided for each family member at each monthly visit.
URL:https://mapleheightsohio.gov/event/food-pantry/2026-03-31/
LOCATION:Maple Heights Food Pantry\, 17100 Broadway Ave\, Maple Heights\, OH\, 44137\, United States
END:VEVENT
END:VCALENDAR